BEGIN:VCALENDAR
VERSION:2.0
PRODID:spatie/icalendar-generator
DESCRIPTION:Events from Eesti T&amp;otilde\;stespordiliit
X-WR-CALDESC:Events from Eesti T&amp;otilde\;stespordiliit
REFRESH-INTERVAL;VALUE=DURATION:PT1440M
X-PUBLISHED-TTL:PT1440M
BEGIN:VTIMEZONE
TZID:Etc/GMT+0
BEGIN:STANDARD
DTSTART:20210727T110000Z
TZOFFSETFROM:+0000
TZOFFSETTO:+0000
END:STANDARD
END:VTIMEZONE
BEGIN:VTIMEZONE
TZID:UTC
BEGIN:STANDARD
DTSTART:20250725T121103Z
TZOFFSETFROM:+0000
TZOFFSETTO:+0000
END:STANDARD
END:VTIMEZONE
BEGIN:VEVENT
UID:9-8
DTSTAMP:20260421T121103Z
SUMMARY:ETL ümarlaud\, Tartu
LOCATION:
ORGANIZER;CN=admin:MAILTO:info@etl.ee
DTSTART;TZID=Etc/GMT+0:20220423T110000
DTEND;TZID=Etc/GMT+0:20220423T120000
X-ALT-DESC;FMTTYPE=TEXT/HTML:Madixi Spordimaja\, Kaunase pst 13b\, Tartu Al
 gus kell 12:00
CATEGORIES:General
URL;VALUE=URI:https://tosteliit.ee/en/kalender/etl-umarlaud-tartu/
METHOD:PUBLISH
END:VEVENT
END:VCALENDAR