BEGIN:VCALENDAR
VERSION:2.0
PRODID:spatie/icalendar-generator
DESCRIPTION:Events from Eesti T&amp;otilde\;stespordiliit
X-WR-CALDESC:Events from Eesti T&amp;otilde\;stespordiliit
REFRESH-INTERVAL;VALUE=DURATION:PT1440M
X-PUBLISHED-TTL:PT1440M
BEGIN:VTIMEZONE
TZID:Etc/GMT+0
BEGIN:STANDARD
DTSTART:20231210T000000Z
TZOFFSETFROM:+0000
TZOFFSETTO:+0000
END:STANDARD
END:VTIMEZONE
BEGIN:VTIMEZONE
TZID:UTC
BEGIN:STANDARD
DTSTART:20250726T135609Z
TZOFFSETFROM:+0000
TZOFFSETTO:+0000
END:STANDARD
END:VTIMEZONE
BEGIN:VEVENT
UID:127-114
DTSTAMP:20260422T135609Z
SUMMARY:Masters MM
LOCATION:
ORGANIZER;CN=admin:MAILTO:info@etl.ee
DTSTART;TZID=Etc/GMT+0;VALUE=DATE:20240905
DTEND;TZID=Etc/GMT+0;VALUE=DATE:20240915
X-ALT-DESC;FMTTYPE=TEXT/HTML:Rovaniemi\, Soome
CATEGORIES:General
URL;VALUE=URI:https://tosteliit.ee/kalender/masters-mm-2/
METHOD:PUBLISH
END:VEVENT
END:VCALENDAR