BEGIN:VCALENDAR
VERSION:2.0
PRODID:spatie/icalendar-generator
DESCRIPTION:Events from Eesti T&amp;otilde\;stespordiliit
X-WR-CALDESC:Events from Eesti T&amp;otilde\;stespordiliit
REFRESH-INTERVAL;VALUE=DURATION:PT1440M
X-PUBLISHED-TTL:PT1440M
BEGIN:VTIMEZONE
TZID:Etc/GMT+0
BEGIN:STANDARD
DTSTART:20221004T000000Z
TZOFFSETFROM:+0000
TZOFFSETTO:+0000
END:STANDARD
END:VTIMEZONE
BEGIN:VTIMEZONE
TZID:UTC
BEGIN:STANDARD
DTSTART:20250727T100702Z
TZOFFSETFROM:+0000
TZOFFSETTO:+0000
END:STANDARD
END:VTIMEZONE
BEGIN:VEVENT
UID:79-69
DTSTAMP:20260423T100702Z
SUMMARY:Noorte EM
LOCATION:
ORGANIZER;CN=admin:MAILTO:info@etl.ee
DTSTART;TZID=Etc/GMT+0:20230701T000000
DTEND;TZID=Etc/GMT+0:20230710T010000
X-ALT-DESC;FMTTYPE=TEXT/HTML:1.-10.juuli\, Moldova
CATEGORIES:General
URL;VALUE=URI:https://tosteliit.ee/kalender/noorte-em/
METHOD:PUBLISH
END:VEVENT
END:VCALENDAR